BEGIN:VCALENDAR
VERSION:2.0
PRODID:-//Tukios.com/
BEGIN:VEVENT
UID:b030bb5f-c556-49fe-97f2-967943ef52d0@www.mcguireanddaviesfuneralhome.com
DTSTAMP:20260422T003526Z
DTSTART:20260426T170000Z
DTEND:20260426T190000Z
SUMMARY:Visitation
DESCRIPTION:
URL:https://www.mcguireanddaviesfuneralhome.com/obituaries/preston-wallace
LOCATION:McGuire & Davies Funeral Home and Crematory  1007 North G Street 
	 Monmouth IL 61462
GEO:40.9240874;-90.6555917
END:VEVENT
END:VCALENDAR