BEGIN:VCALENDAR
VERSION:2.0
PRODID:-//Tukios.com/
BEGIN:VEVENT
UID:44fa42c1-5445-4777-adcc-6160032d78ba@www.mcguireanddaviesfuneralhome.com
DTSTAMP:20260422T003415Z
DTSTART:20260426T193000Z
DTEND:20260426T203000Z
SUMMARY:Graveside Service
DESCRIPTION:
URL:https://www.mcguireanddaviesfuneralhome.com/obituaries/preston-wallace
LOCATION:Ellison Cemetery  100 Ellison Road  Smithshire IL 61478
GEO:40.7715647;-90.7694178
END:VEVENT
END:VCALENDAR